BEGIN:VCALENDAR
VERSION:2.0
PRODID:-//Great Plains Laborers District Council - ECPv6.15.20//NONSGML v1.0//EN
CALSCALE:GREGORIAN
METHOD:PUBLISH
X-WR-CALNAME:Great Plains Laborers District Council
X-ORIGINAL-URL:https://greatplainslaborers.org
X-WR-CALDESC:Events for Great Plains Laborers District Council
REFRESH-INTERVAL;VALUE=DURATION:PT1H
X-Robots-Tag:noindex
X-PUBLISHED-TTL:PT1H
BEGIN:VTIMEZONE
TZID:America/Chicago
BEGIN:DAYLIGHT
TZOFFSETFROM:-0600
TZOFFSETTO:-0500
TZNAME:CDT
DTSTART:20250309T080000
END:DAYLIGHT
BEGIN:STANDARD
TZOFFSETFROM:-0500
TZOFFSETTO:-0600
TZNAME:CST
DTSTART:20251102T070000
END:STANDARD
BEGIN:DAYLIGHT
TZOFFSETFROM:-0600
TZOFFSETTO:-0500
TZNAME:CDT
DTSTART:20260308T080000
END:DAYLIGHT
BEGIN:STANDARD
TZOFFSETFROM:-0500
TZOFFSETTO:-0600
TZNAME:CST
DTSTART:20261101T070000
END:STANDARD
BEGIN:DAYLIGHT
TZOFFSETFROM:-0600
TZOFFSETTO:-0500
TZNAME:CDT
DTSTART:20270314T080000
END:DAYLIGHT
BEGIN:STANDARD
TZOFFSETFROM:-0500
TZOFFSETTO:-0600
TZNAME:CST
DTSTART:20271107T070000
END:STANDARD
BEGIN:DAYLIGHT
TZOFFSETFROM:-0600
TZOFFSETTO:-0500
TZNAME:CDT
DTSTART:20280312T080000
END:DAYLIGHT
BEGIN:STANDARD
TZOFFSETFROM:-0500
TZOFFSETTO:-0600
TZNAME:CST
DTSTART:20281105T070000
END:STANDARD
BEGIN:DAYLIGHT
TZOFFSETFROM:-0600
TZOFFSETTO:-0500
TZNAME:CDT
DTSTART:20290311T080000
END:DAYLIGHT
BEGIN:STANDARD
TZOFFSETFROM:-0500
TZOFFSETTO:-0600
TZNAME:CST
DTSTART:20291104T070000
END:STANDARD
END:VTIMEZONE
BEGIN:VEVENT
DTSTART;TZID=America/Chicago:20260504T190000
DTEND;TZID=America/Chicago:20260504T203000
DTSTAMP:20260419T091841
CREATED:20240205T212245Z
LAST-MODIFIED:20251124T213131Z
UID:10001319-1777921200-1777926600@greatplainslaborers.org
SUMMARY:Laborers 538 Meeting
DESCRIPTION:
URL:https://greatplainslaborers.org/event/laborers-538-meeting/2026-05-04/
LOCATION:Laborers 538 Union Hall\, 118 West Main St.\, East Galesburg\, IL\, 61430
ATTACH;FMTTYPE=image/png:https://greatplainslaborers.org/wp-content/uploads/2024/01/LIUNA_logo.png
END:VEVENT
BEGIN:VEVENT
DTSTART;TZID=America/Chicago:20260601T190000
DTEND;TZID=America/Chicago:20260601T203000
DTSTAMP:20260419T091841
CREATED:20240205T212245Z
LAST-MODIFIED:20251124T213131Z
UID:10001320-1780340400-1780345800@greatplainslaborers.org
SUMMARY:Laborers 538 Meeting
DESCRIPTION:
URL:https://greatplainslaborers.org/event/laborers-538-meeting/2026-06-01/
LOCATION:Laborers 538 Union Hall\, 118 West Main St.\, East Galesburg\, IL\, 61430
ATTACH;FMTTYPE=image/png:https://greatplainslaborers.org/wp-content/uploads/2024/01/LIUNA_logo.png
END:VEVENT
BEGIN:VEVENT
DTSTART;TZID=America/Chicago:20260706T190000
DTEND;TZID=America/Chicago:20260706T203000
DTSTAMP:20260419T091841
CREATED:20240205T212245Z
LAST-MODIFIED:20251124T213131Z
UID:10001321-1783364400-1783369800@greatplainslaborers.org
SUMMARY:Laborers 538 Meeting
DESCRIPTION:
URL:https://greatplainslaborers.org/event/laborers-538-meeting/2026-07-06/
LOCATION:Laborers 538 Union Hall\, 118 West Main St.\, East Galesburg\, IL\, 61430
ATTACH;FMTTYPE=image/png:https://greatplainslaborers.org/wp-content/uploads/2024/01/LIUNA_logo.png
END:VEVENT
BEGIN:VEVENT
DTSTART;TZID=America/Chicago:20260803T190000
DTEND;TZID=America/Chicago:20260803T203000
DTSTAMP:20260419T091841
CREATED:20240205T212245Z
LAST-MODIFIED:20251124T213131Z
UID:10001322-1785783600-1785789000@greatplainslaborers.org
SUMMARY:Laborers 538 Meeting
DESCRIPTION:
URL:https://greatplainslaborers.org/event/laborers-538-meeting/2026-08-03/
LOCATION:Laborers 538 Union Hall\, 118 West Main St.\, East Galesburg\, IL\, 61430
ATTACH;FMTTYPE=image/png:https://greatplainslaborers.org/wp-content/uploads/2024/01/LIUNA_logo.png
END:VEVENT
BEGIN:VEVENT
DTSTART;TZID=America/Chicago:20260907T190000
DTEND;TZID=America/Chicago:20260907T203000
DTSTAMP:20260419T091841
CREATED:20240205T212245Z
LAST-MODIFIED:20251124T213131Z
UID:10001323-1788807600-1788813000@greatplainslaborers.org
SUMMARY:Laborers 538 Meeting
DESCRIPTION:
URL:https://greatplainslaborers.org/event/laborers-538-meeting/2026-09-07/
LOCATION:Laborers 538 Union Hall\, 118 West Main St.\, East Galesburg\, IL\, 61430
ATTACH;FMTTYPE=image/png:https://greatplainslaborers.org/wp-content/uploads/2024/01/LIUNA_logo.png
END:VEVENT
BEGIN:VEVENT
DTSTART;TZID=America/Chicago:20261005T190000
DTEND;TZID=America/Chicago:20261005T203000
DTSTAMP:20260419T091841
CREATED:20240205T212245Z
LAST-MODIFIED:20251124T213131Z
UID:10001324-1791226800-1791232200@greatplainslaborers.org
SUMMARY:Laborers 538 Meeting
DESCRIPTION:
URL:https://greatplainslaborers.org/event/laborers-538-meeting/2026-10-05/
LOCATION:Laborers 538 Union Hall\, 118 West Main St.\, East Galesburg\, IL\, 61430
ATTACH;FMTTYPE=image/png:https://greatplainslaborers.org/wp-content/uploads/2024/01/LIUNA_logo.png
END:VEVENT
BEGIN:VEVENT
DTSTART;TZID=America/Chicago:20261102T190000
DTEND;TZID=America/Chicago:20261102T203000
DTSTAMP:20260419T091841
CREATED:20240205T212245Z
LAST-MODIFIED:20251124T213131Z
UID:10001325-1793646000-1793651400@greatplainslaborers.org
SUMMARY:Laborers 538 Meeting
DESCRIPTION:
URL:https://greatplainslaborers.org/event/laborers-538-meeting/2026-11-02/
LOCATION:Laborers 538 Union Hall\, 118 West Main St.\, East Galesburg\, IL\, 61430
ATTACH;FMTTYPE=image/png:https://greatplainslaborers.org/wp-content/uploads/2024/01/LIUNA_logo.png
END:VEVENT
BEGIN:VEVENT
DTSTART;TZID=America/Chicago:20261207T190000
DTEND;TZID=America/Chicago:20261207T203000
DTSTAMP:20260419T091841
CREATED:20240205T212245Z
LAST-MODIFIED:20251124T213131Z
UID:10001326-1796670000-1796675400@greatplainslaborers.org
SUMMARY:Laborers 538 Meeting
DESCRIPTION:
URL:https://greatplainslaborers.org/event/laborers-538-meeting/2026-12-07/
LOCATION:Laborers 538 Union Hall\, 118 West Main St.\, East Galesburg\, IL\, 61430
ATTACH;FMTTYPE=image/png:https://greatplainslaborers.org/wp-content/uploads/2024/01/LIUNA_logo.png
END:VEVENT
BEGIN:VEVENT
DTSTART;TZID=America/Chicago:20270104T190000
DTEND;TZID=America/Chicago:20270104T203000
DTSTAMP:20260419T091841
CREATED:20240205T212245Z
LAST-MODIFIED:20251124T213131Z
UID:10001327-1799089200-1799094600@greatplainslaborers.org
SUMMARY:Laborers 538 Meeting
DESCRIPTION:
URL:https://greatplainslaborers.org/event/laborers-538-meeting/2027-01-04/
LOCATION:Laborers 538 Union Hall\, 118 West Main St.\, East Galesburg\, IL\, 61430
ATTACH;FMTTYPE=image/png:https://greatplainslaborers.org/wp-content/uploads/2024/01/LIUNA_logo.png
END:VEVENT
BEGIN:VEVENT
DTSTART;TZID=America/Chicago:20270201T190000
DTEND;TZID=America/Chicago:20270201T203000
DTSTAMP:20260419T091841
CREATED:20240205T212245Z
LAST-MODIFIED:20251124T213131Z
UID:10001328-1801508400-1801513800@greatplainslaborers.org
SUMMARY:Laborers 538 Meeting
DESCRIPTION:
URL:https://greatplainslaborers.org/event/laborers-538-meeting/2027-02-01/
LOCATION:Laborers 538 Union Hall\, 118 West Main St.\, East Galesburg\, IL\, 61430
ATTACH;FMTTYPE=image/png:https://greatplainslaborers.org/wp-content/uploads/2024/01/LIUNA_logo.png
END:VEVENT
BEGIN:VEVENT
DTSTART;TZID=America/Chicago:20270301T190000
DTEND;TZID=America/Chicago:20270301T203000
DTSTAMP:20260419T091841
CREATED:20240205T212245Z
LAST-MODIFIED:20251124T213131Z
UID:10001329-1803927600-1803933000@greatplainslaborers.org
SUMMARY:Laborers 538 Meeting
DESCRIPTION:
URL:https://greatplainslaborers.org/event/laborers-538-meeting/2027-03-01/
LOCATION:Laborers 538 Union Hall\, 118 West Main St.\, East Galesburg\, IL\, 61430
ATTACH;FMTTYPE=image/png:https://greatplainslaborers.org/wp-content/uploads/2024/01/LIUNA_logo.png
END:VEVENT
BEGIN:VEVENT
DTSTART;TZID=America/Chicago:20270405T190000
DTEND;TZID=America/Chicago:20270405T203000
DTSTAMP:20260419T091841
CREATED:20240205T212245Z
LAST-MODIFIED:20251124T213131Z
UID:10001330-1806951600-1806957000@greatplainslaborers.org
SUMMARY:Laborers 538 Meeting
DESCRIPTION:
URL:https://greatplainslaborers.org/event/laborers-538-meeting/2027-04-05/
LOCATION:Laborers 538 Union Hall\, 118 West Main St.\, East Galesburg\, IL\, 61430
ATTACH;FMTTYPE=image/png:https://greatplainslaborers.org/wp-content/uploads/2024/01/LIUNA_logo.png
END:VEVENT
BEGIN:VEVENT
DTSTART;TZID=America/Chicago:20270503T190000
DTEND;TZID=America/Chicago:20270503T203000
DTSTAMP:20260419T091841
CREATED:20240205T212245Z
LAST-MODIFIED:20251124T213131Z
UID:10001331-1809370800-1809376200@greatplainslaborers.org
SUMMARY:Laborers 538 Meeting
DESCRIPTION:
URL:https://greatplainslaborers.org/event/laborers-538-meeting/2027-05-03/
LOCATION:Laborers 538 Union Hall\, 118 West Main St.\, East Galesburg\, IL\, 61430
ATTACH;FMTTYPE=image/png:https://greatplainslaborers.org/wp-content/uploads/2024/01/LIUNA_logo.png
END:VEVENT
BEGIN:VEVENT
DTSTART;TZID=America/Chicago:20270607T190000
DTEND;TZID=America/Chicago:20270607T203000
DTSTAMP:20260419T091841
CREATED:20240205T212245Z
LAST-MODIFIED:20251124T213131Z
UID:10001332-1812394800-1812400200@greatplainslaborers.org
SUMMARY:Laborers 538 Meeting
DESCRIPTION:
URL:https://greatplainslaborers.org/event/laborers-538-meeting/2027-06-07/
LOCATION:Laborers 538 Union Hall\, 118 West Main St.\, East Galesburg\, IL\, 61430
ATTACH;FMTTYPE=image/png:https://greatplainslaborers.org/wp-content/uploads/2024/01/LIUNA_logo.png
END:VEVENT
BEGIN:VEVENT
DTSTART;TZID=America/Chicago:20270705T190000
DTEND;TZID=America/Chicago:20270705T203000
DTSTAMP:20260419T091841
CREATED:20240205T212245Z
LAST-MODIFIED:20251124T213131Z
UID:10001333-1814814000-1814819400@greatplainslaborers.org
SUMMARY:Laborers 538 Meeting
DESCRIPTION:
URL:https://greatplainslaborers.org/event/laborers-538-meeting/2027-07-05/
LOCATION:Laborers 538 Union Hall\, 118 West Main St.\, East Galesburg\, IL\, 61430
ATTACH;FMTTYPE=image/png:https://greatplainslaborers.org/wp-content/uploads/2024/01/LIUNA_logo.png
END:VEVENT
BEGIN:VEVENT
DTSTART;TZID=America/Chicago:20270802T190000
DTEND;TZID=America/Chicago:20270802T203000
DTSTAMP:20260419T091841
CREATED:20240205T212245Z
LAST-MODIFIED:20251124T213131Z
UID:10001334-1817233200-1817238600@greatplainslaborers.org
SUMMARY:Laborers 538 Meeting
DESCRIPTION:
URL:https://greatplainslaborers.org/event/laborers-538-meeting/2027-08-02/
LOCATION:Laborers 538 Union Hall\, 118 West Main St.\, East Galesburg\, IL\, 61430
ATTACH;FMTTYPE=image/png:https://greatplainslaborers.org/wp-content/uploads/2024/01/LIUNA_logo.png
END:VEVENT
BEGIN:VEVENT
DTSTART;TZID=America/Chicago:20270906T190000
DTEND;TZID=America/Chicago:20270906T203000
DTSTAMP:20260419T091841
CREATED:20240205T212245Z
LAST-MODIFIED:20251124T213131Z
UID:10001335-1820257200-1820262600@greatplainslaborers.org
SUMMARY:Laborers 538 Meeting
DESCRIPTION:
URL:https://greatplainslaborers.org/event/laborers-538-meeting/2027-09-06/
LOCATION:Laborers 538 Union Hall\, 118 West Main St.\, East Galesburg\, IL\, 61430
ATTACH;FMTTYPE=image/png:https://greatplainslaborers.org/wp-content/uploads/2024/01/LIUNA_logo.png
END:VEVENT
BEGIN:VEVENT
DTSTART;TZID=America/Chicago:20271004T190000
DTEND;TZID=America/Chicago:20271004T203000
DTSTAMP:20260419T091841
CREATED:20240205T212245Z
LAST-MODIFIED:20251124T213131Z
UID:10001336-1822676400-1822681800@greatplainslaborers.org
SUMMARY:Laborers 538 Meeting
DESCRIPTION:
URL:https://greatplainslaborers.org/event/laborers-538-meeting/2027-10-04/
LOCATION:Laborers 538 Union Hall\, 118 West Main St.\, East Galesburg\, IL\, 61430
ATTACH;FMTTYPE=image/png:https://greatplainslaborers.org/wp-content/uploads/2024/01/LIUNA_logo.png
END:VEVENT
BEGIN:VEVENT
DTSTART;TZID=America/Chicago:20271101T190000
DTEND;TZID=America/Chicago:20271101T203000
DTSTAMP:20260419T091841
CREATED:20240205T212245Z
LAST-MODIFIED:20251124T213131Z
UID:10001337-1825095600-1825101000@greatplainslaborers.org
SUMMARY:Laborers 538 Meeting
DESCRIPTION:
URL:https://greatplainslaborers.org/event/laborers-538-meeting/2027-11-01/
LOCATION:Laborers 538 Union Hall\, 118 West Main St.\, East Galesburg\, IL\, 61430
ATTACH;FMTTYPE=image/png:https://greatplainslaborers.org/wp-content/uploads/2024/01/LIUNA_logo.png
END:VEVENT
BEGIN:VEVENT
DTSTART;TZID=America/Chicago:20271206T190000
DTEND;TZID=America/Chicago:20271206T203000
DTSTAMP:20260419T091841
CREATED:20240205T212245Z
LAST-MODIFIED:20251124T213131Z
UID:10001338-1828119600-1828125000@greatplainslaborers.org
SUMMARY:Laborers 538 Meeting
DESCRIPTION:
URL:https://greatplainslaborers.org/event/laborers-538-meeting/2027-12-06/
LOCATION:Laborers 538 Union Hall\, 118 West Main St.\, East Galesburg\, IL\, 61430
ATTACH;FMTTYPE=image/png:https://greatplainslaborers.org/wp-content/uploads/2024/01/LIUNA_logo.png
END:VEVENT
BEGIN:VEVENT
DTSTART;TZID=America/Chicago:20280103T190000
DTEND;TZID=America/Chicago:20280103T203000
DTSTAMP:20260419T091841
CREATED:20240205T212245Z
LAST-MODIFIED:20251124T213131Z
UID:10001339-1830538800-1830544200@greatplainslaborers.org
SUMMARY:Laborers 538 Meeting
DESCRIPTION:
URL:https://greatplainslaborers.org/event/laborers-538-meeting/2028-01-03/
LOCATION:Laborers 538 Union Hall\, 118 West Main St.\, East Galesburg\, IL\, 61430
ATTACH;FMTTYPE=image/png:https://greatplainslaborers.org/wp-content/uploads/2024/01/LIUNA_logo.png
END:VEVENT
BEGIN:VEVENT
DTSTART;TZID=America/Chicago:20280207T190000
DTEND;TZID=America/Chicago:20280207T203000
DTSTAMP:20260419T091841
CREATED:20240205T212245Z
LAST-MODIFIED:20251124T213131Z
UID:10001340-1833562800-1833568200@greatplainslaborers.org
SUMMARY:Laborers 538 Meeting
DESCRIPTION:
URL:https://greatplainslaborers.org/event/laborers-538-meeting/2028-02-07/
LOCATION:Laborers 538 Union Hall\, 118 West Main St.\, East Galesburg\, IL\, 61430
ATTACH;FMTTYPE=image/png:https://greatplainslaborers.org/wp-content/uploads/2024/01/LIUNA_logo.png
END:VEVENT
BEGIN:VEVENT
DTSTART;TZID=America/Chicago:20280306T190000
DTEND;TZID=America/Chicago:20280306T203000
DTSTAMP:20260419T091841
CREATED:20240205T212245Z
LAST-MODIFIED:20251124T213131Z
UID:10001341-1835982000-1835987400@greatplainslaborers.org
SUMMARY:Laborers 538 Meeting
DESCRIPTION:
URL:https://greatplainslaborers.org/event/laborers-538-meeting/2028-03-06/
LOCATION:Laborers 538 Union Hall\, 118 West Main St.\, East Galesburg\, IL\, 61430
ATTACH;FMTTYPE=image/png:https://greatplainslaborers.org/wp-content/uploads/2024/01/LIUNA_logo.png
END:VEVENT
BEGIN:VEVENT
DTSTART;TZID=America/Chicago:20280403T190000
DTEND;TZID=America/Chicago:20280403T203000
DTSTAMP:20260419T091841
CREATED:20240205T212245Z
LAST-MODIFIED:20251124T213131Z
UID:10001342-1838401200-1838406600@greatplainslaborers.org
SUMMARY:Laborers 538 Meeting
DESCRIPTION:
URL:https://greatplainslaborers.org/event/laborers-538-meeting/2028-04-03/
LOCATION:Laborers 538 Union Hall\, 118 West Main St.\, East Galesburg\, IL\, 61430
ATTACH;FMTTYPE=image/png:https://greatplainslaborers.org/wp-content/uploads/2024/01/LIUNA_logo.png
END:VEVENT
BEGIN:VEVENT
DTSTART;TZID=America/Chicago:20280501T190000
DTEND;TZID=America/Chicago:20280501T203000
DTSTAMP:20260419T091841
CREATED:20240205T212245Z
LAST-MODIFIED:20251124T213131Z
UID:10001343-1840820400-1840825800@greatplainslaborers.org
SUMMARY:Laborers 538 Meeting
DESCRIPTION:
URL:https://greatplainslaborers.org/event/laborers-538-meeting/2028-05-01/
LOCATION:Laborers 538 Union Hall\, 118 West Main St.\, East Galesburg\, IL\, 61430
ATTACH;FMTTYPE=image/png:https://greatplainslaborers.org/wp-content/uploads/2024/01/LIUNA_logo.png
END:VEVENT
BEGIN:VEVENT
DTSTART;TZID=America/Chicago:20280605T190000
DTEND;TZID=America/Chicago:20280605T203000
DTSTAMP:20260419T091841
CREATED:20240205T212245Z
LAST-MODIFIED:20251124T213131Z
UID:10001344-1843844400-1843849800@greatplainslaborers.org
SUMMARY:Laborers 538 Meeting
DESCRIPTION:
URL:https://greatplainslaborers.org/event/laborers-538-meeting/2028-06-05/
LOCATION:Laborers 538 Union Hall\, 118 West Main St.\, East Galesburg\, IL\, 61430
ATTACH;FMTTYPE=image/png:https://greatplainslaborers.org/wp-content/uploads/2024/01/LIUNA_logo.png
END:VEVENT
BEGIN:VEVENT
DTSTART;TZID=America/Chicago:20280703T190000
DTEND;TZID=America/Chicago:20280703T203000
DTSTAMP:20260419T091841
CREATED:20240205T212245Z
LAST-MODIFIED:20251124T213131Z
UID:10001345-1846263600-1846269000@greatplainslaborers.org
SUMMARY:Laborers 538 Meeting
DESCRIPTION:
URL:https://greatplainslaborers.org/event/laborers-538-meeting/2028-07-03/
LOCATION:Laborers 538 Union Hall\, 118 West Main St.\, East Galesburg\, IL\, 61430
ATTACH;FMTTYPE=image/png:https://greatplainslaborers.org/wp-content/uploads/2024/01/LIUNA_logo.png
END:VEVENT
BEGIN:VEVENT
DTSTART;TZID=America/Chicago:20280807T190000
DTEND;TZID=America/Chicago:20280807T203000
DTSTAMP:20260419T091841
CREATED:20240205T212245Z
LAST-MODIFIED:20251124T213131Z
UID:10001346-1849287600-1849293000@greatplainslaborers.org
SUMMARY:Laborers 538 Meeting
DESCRIPTION:
URL:https://greatplainslaborers.org/event/laborers-538-meeting/2028-08-07/
LOCATION:Laborers 538 Union Hall\, 118 West Main St.\, East Galesburg\, IL\, 61430
ATTACH;FMTTYPE=image/png:https://greatplainslaborers.org/wp-content/uploads/2024/01/LIUNA_logo.png
END:VEVENT
BEGIN:VEVENT
DTSTART;TZID=America/Chicago:20280904T190000
DTEND;TZID=America/Chicago:20280904T203000
DTSTAMP:20260419T091841
CREATED:20240205T212245Z
LAST-MODIFIED:20251124T213131Z
UID:10001347-1851706800-1851712200@greatplainslaborers.org
SUMMARY:Laborers 538 Meeting
DESCRIPTION:
URL:https://greatplainslaborers.org/event/laborers-538-meeting/2028-09-04/
LOCATION:Laborers 538 Union Hall\, 118 West Main St.\, East Galesburg\, IL\, 61430
ATTACH;FMTTYPE=image/png:https://greatplainslaborers.org/wp-content/uploads/2024/01/LIUNA_logo.png
END:VEVENT
BEGIN:VEVENT
DTSTART;TZID=America/Chicago:20281002T190000
DTEND;TZID=America/Chicago:20281002T203000
DTSTAMP:20260419T091841
CREATED:20240205T212245Z
LAST-MODIFIED:20251124T213131Z
UID:10001348-1854126000-1854131400@greatplainslaborers.org
SUMMARY:Laborers 538 Meeting
DESCRIPTION:
URL:https://greatplainslaborers.org/event/laborers-538-meeting/2028-10-02/
LOCATION:Laborers 538 Union Hall\, 118 West Main St.\, East Galesburg\, IL\, 61430
ATTACH;FMTTYPE=image/png:https://greatplainslaborers.org/wp-content/uploads/2024/01/LIUNA_logo.png
END:VEVENT
END:VCALENDAR