BEGIN:VCALENDAR
VERSION:2.0
PRODID:-//Great Plains Laborers District Council - ECPv6.15.20//NONSGML v1.0//EN
CALSCALE:GREGORIAN
METHOD:PUBLISH
X-WR-CALNAME:Great Plains Laborers District Council
X-ORIGINAL-URL:https://greatplainslaborers.org
X-WR-CALDESC:Events for Great Plains Laborers District Council
REFRESH-INTERVAL;VALUE=DURATION:PT1H
X-Robots-Tag:noindex
X-PUBLISHED-TTL:PT1H
BEGIN:VTIMEZONE
TZID:America/Chicago
BEGIN:DAYLIGHT
TZOFFSETFROM:-0600
TZOFFSETTO:-0500
TZNAME:CDT
DTSTART:20240310T080000
END:DAYLIGHT
BEGIN:STANDARD
TZOFFSETFROM:-0500
TZOFFSETTO:-0600
TZNAME:CST
DTSTART:20241103T070000
END:STANDARD
BEGIN:DAYLIGHT
TZOFFSETFROM:-0600
TZOFFSETTO:-0500
TZNAME:CDT
DTSTART:20250309T080000
END:DAYLIGHT
BEGIN:STANDARD
TZOFFSETFROM:-0500
TZOFFSETTO:-0600
TZNAME:CST
DTSTART:20251102T070000
END:STANDARD
BEGIN:DAYLIGHT
TZOFFSETFROM:-0600
TZOFFSETTO:-0500
TZNAME:CDT
DTSTART:20260308T080000
END:DAYLIGHT
BEGIN:STANDARD
TZOFFSETFROM:-0500
TZOFFSETTO:-0600
TZNAME:CST
DTSTART:20261101T070000
END:STANDARD
BEGIN:DAYLIGHT
TZOFFSETFROM:-0600
TZOFFSETTO:-0500
TZNAME:CDT
DTSTART:20270314T080000
END:DAYLIGHT
BEGIN:STANDARD
TZOFFSETFROM:-0500
TZOFFSETTO:-0600
TZNAME:CST
DTSTART:20271107T070000
END:STANDARD
END:VTIMEZONE
BEGIN:VEVENT
DTSTART;TZID=America/Chicago:20260101T183000
DTEND;TZID=America/Chicago:20260101T200000
DTSTAMP:20260421T052835
CREATED:20240206T184313Z
LAST-MODIFIED:20251124T212226Z
UID:10000654-1767292200-1767297600@greatplainslaborers.org
SUMMARY:Laborers 620 Meeting
DESCRIPTION:
URL:https://greatplainslaborers.org/event/laborers-620-meeting-3/2026-01-01/
LOCATION:Laborers 620 Union Hall\, 606 N Kiwanis Ave\, Sioux Falls\, SD\, 57104
ATTACH;FMTTYPE=image/png:https://greatplainslaborers.org/wp-content/uploads/2024/01/LIUNA_logo.png
END:VEVENT
BEGIN:VEVENT
DTSTART;TZID=America/Chicago:20260101T180000
DTEND;TZID=America/Chicago:20260101T193000
DTSTAMP:20260421T052835
CREATED:20240715T204513Z
LAST-MODIFIED:20251124T212257Z
UID:10000249-1767290400-1767295800@greatplainslaborers.org
SUMMARY:Laborers 177 Meeting
DESCRIPTION:
URL:https://greatplainslaborers.org/event/laborers-177-meeting-4/2026-01-01/
LOCATION:Laborers 177 Union Hall\, 3400 E Euclid Ave\,\, Des Moines\, IA\, 50317
ATTACH;FMTTYPE=image/png:https://greatplainslaborers.org/wp-content/uploads/2024/01/laborers177.png
END:VEVENT
BEGIN:VEVENT
DTSTART;TZID=America/Chicago:20251225T190000
DTEND;TZID=America/Chicago:20251225T203000
DTSTAMP:20260421T052835
CREATED:20240205T213020Z
LAST-MODIFIED:20250410T202147Z
UID:10000283-1766689200-1766694600@greatplainslaborers.org
SUMMARY:Laborers 751 Meeting
DESCRIPTION:
URL:https://greatplainslaborers.org/event/laborers-751-meeting/2025-12-25/
LOCATION:Laborers 751 Union Hall\, 1390 Stanford Drive\, Kankakee\, IL\, 60901
ATTACH;FMTTYPE=image/png:https://greatplainslaborers.org/wp-content/uploads/2024/01/LIUNA_logo.png
END:VEVENT
BEGIN:VEVENT
DTSTART;VALUE=DATE:20251225
DTEND;VALUE=DATE:20251226
DTSTAMP:20260421T052835
CREATED:20240129T183911Z
LAST-MODIFIED:20251124T212649Z
UID:10000307-1766620800-1766707199@greatplainslaborers.org
SUMMARY:GPLDC Delegates Meetings
DESCRIPTION:
URL:https://greatplainslaborers.org/event/gpldc-delegates-meetings/2025-12-25/
LOCATION:IA
ATTACH;FMTTYPE=image/png:https://greatplainslaborers.org/wp-content/uploads/2024/01/LIUNA_logo.png
END:VEVENT
BEGIN:VEVENT
DTSTART;TZID=America/Chicago:20251209T190000
DTEND;TZID=America/Chicago:20251209T203000
DTSTAMP:20260421T052835
CREATED:20240205T212005Z
LAST-MODIFIED:20251124T212744Z
UID:10000294-1765306800-1765312200@greatplainslaborers.org
SUMMARY:Laborers 393 Meeting
DESCRIPTION:
URL:https://greatplainslaborers.org/event/laborers-393-meeting/2025-12-09/
LOCATION:Laborers 393 Union Hall\, 322 Main St.\, Marseilles\, IL\, 61341
ATTACH;FMTTYPE=image/png:https://greatplainslaborers.org/wp-content/uploads/2024/02/local393.png
END:VEVENT
BEGIN:VEVENT
DTSTART;TZID=America/Chicago:20251209T190000
DTEND;TZID=America/Chicago:20251209T203000
DTSTAMP:20260421T052835
CREATED:20240205T211015Z
LAST-MODIFIED:20251124T212904Z
UID:10000318-1765306800-1765312200@greatplainslaborers.org
SUMMARY:Laborers 309 Meeting
DESCRIPTION:
URL:https://greatplainslaborers.org/event/laborers-309-meeting/2025-12-09/
LOCATION:Laborers 309 Union Hall\, 2835 7th Ave\, Rock Island\, IL\, 61201
ATTACH;FMTTYPE=image/png:https://greatplainslaborers.org/wp-content/uploads/2024/01/LIUNA_logo.png
END:VEVENT
BEGIN:VEVENT
DTSTART;TZID=America/Chicago:20251209T173000
DTEND;TZID=America/Chicago:20251209T190000
DTSTAMP:20260421T052835
CREATED:20240205T203441Z
LAST-MODIFIED:20251124T212812Z
UID:10000352-1765301400-1765306800@greatplainslaborers.org
SUMMARY:Laborers 32 Meeting
DESCRIPTION:
URL:https://greatplainslaborers.org/event/laborers-32/2025-12-09/
LOCATION:Laborers 32 Union Hall\, 4477 Linden Road\, Suite F\, Rockford\, IL\, 61109
ATTACH;FMTTYPE=image/png:https://greatplainslaborers.org/wp-content/uploads/2024/02/local32-logo500.png
END:VEVENT
BEGIN:VEVENT
DTSTART;TZID=America/Chicago:20251205T150000
DTEND;TZID=America/Chicago:20251205T160000
DTSTAMP:20260421T052835
CREATED:20240226T214539Z
LAST-MODIFIED:20251124T212202Z
UID:10000579-1764946800-1764950400@greatplainslaborers.org
SUMMARY:Laborers' Local 727 Retiree Council Meeting
DESCRIPTION:
URL:https://greatplainslaborers.org/event/laborers-local-727-retiree-council-meeting-3/2025-12-05/
LOCATION:Laborers 727 Union Hall\, 768 Bloody Gulch Road\, Dixon\, IL\, 61021
ATTACH;FMTTYPE=image/jpeg:https://greatplainslaborers.org/wp-content/uploads/2023/11/laborers727.jpg
END:VEVENT
BEGIN:VEVENT
DTSTART;TZID=America/Chicago:20251204T190000
DTEND;TZID=America/Chicago:20251204T203000
DTSTAMP:20260421T052835
CREATED:20240205T212808Z
LAST-MODIFIED:20251124T213306Z
UID:10000425-1764874800-1764880200@greatplainslaborers.org
SUMMARY:Laborers 727 Meeting
DESCRIPTION:
URL:https://greatplainslaborers.org/event/laborers-727-meeting/2025-12-04/
LOCATION:Laborers 727 Union Hall\, 768 Bloody Gulch Road\, Dixon\, IL\, 61021
ATTACH;FMTTYPE=image/jpeg:https://greatplainslaborers.org/wp-content/uploads/2023/11/laborers727.jpg
END:VEVENT
BEGIN:VEVENT
DTSTART;TZID=America/Chicago:20251204T183000
DTEND;TZID=America/Chicago:20251204T200000
DTSTAMP:20260421T052835
CREATED:20240206T184313Z
LAST-MODIFIED:20251124T212226Z
UID:10000653-1764873000-1764878400@greatplainslaborers.org
SUMMARY:Laborers 620 Meeting
DESCRIPTION:
URL:https://greatplainslaborers.org/event/laborers-620-meeting-3/2025-12-04/
LOCATION:Laborers 620 Union Hall\, 606 N Kiwanis Ave\, Sioux Falls\, SD\, 57104
ATTACH;FMTTYPE=image/png:https://greatplainslaborers.org/wp-content/uploads/2024/01/LIUNA_logo.png
END:VEVENT
BEGIN:VEVENT
DTSTART;TZID=America/Chicago:20251204T180000
DTEND;TZID=America/Chicago:20251204T193000
DTSTAMP:20260421T052835
CREATED:20240715T204513Z
LAST-MODIFIED:20251124T212257Z
UID:10000248-1764871200-1764876600@greatplainslaborers.org
SUMMARY:Laborers 177 Meeting
DESCRIPTION:
URL:https://greatplainslaborers.org/event/laborers-177-meeting-4/2025-12-04/
LOCATION:Laborers 177 Union Hall\, 3400 E Euclid Ave\,\, Des Moines\, IA\, 50317
ATTACH;FMTTYPE=image/png:https://greatplainslaborers.org/wp-content/uploads/2024/01/laborers177.png
END:VEVENT
BEGIN:VEVENT
DTSTART;TZID=America/Chicago:20251202T193000
DTEND;TZID=America/Chicago:20251202T210000
DTSTAMP:20260421T052835
CREATED:20240205T210606Z
LAST-MODIFIED:20251124T212837Z
UID:10000330-1764703800-1764709200@greatplainslaborers.org
SUMMARY:Laborers 231 Meeting
DESCRIPTION:
URL:https://greatplainslaborers.org/event/laborers-231-meeting/2025-12-02/
LOCATION:Laborers 231 Union Hall\, 2503 Broadway\, Pekin\, IL\, 61554
ATTACH;FMTTYPE=image/jpeg:https://greatplainslaborers.org/wp-content/uploads/2024/02/laborers231.jpg
END:VEVENT
BEGIN:VEVENT
DTSTART;TZID=America/Chicago:20251202T183000
DTEND;TZID=America/Chicago:20251202T200000
DTSTAMP:20260421T052835
CREATED:20240205T213549Z
LAST-MODIFIED:20251124T212934Z
UID:10000365-1764700200-1764705600@greatplainslaborers.org
SUMMARY:Laborers 1140 Meeting
DESCRIPTION:
URL:https://greatplainslaborers.org/event/laborers-1140-meeting/2025-12-02/
LOCATION:Laborers 1140 Union Hall (Omaha)\, 5626 Sorensen Pkwy\, Omaha\, NE\, 68503
ATTACH;FMTTYPE=image/jpeg:https://greatplainslaborers.org/wp-content/uploads/2023/11/327234129_5887388894650198_4277560577260670663_n.jpg
END:VEVENT
BEGIN:VEVENT
DTSTART;TZID=America/Chicago:20251202T183000
DTEND;TZID=America/Chicago:20251202T200000
DTSTAMP:20260421T052835
CREATED:20240205T213244Z
LAST-MODIFIED:20251124T213033Z
UID:10001200-1764700200-1764705600@greatplainslaborers.org
SUMMARY:Laborers 996 Meeting
DESCRIPTION:
URL:https://greatplainslaborers.org/event/laborers-996-meeting/2025-12-02/
LOCATION:Laborers 996 Union Hall\, PO Box 410\, Roanoke\, IL\, 61561
ATTACH;FMTTYPE=image/png:https://greatplainslaborers.org/wp-content/uploads/2024/01/LIUNA_logo.png
END:VEVENT
BEGIN:VEVENT
DTSTART;TZID=America/Chicago:20251202T183000
DTEND;TZID=America/Chicago:20251202T200000
DTSTAMP:20260421T052835
CREATED:20240205T211449Z
LAST-MODIFIED:20251124T213105Z
UID:10000377-1764700200-1764705600@greatplainslaborers.org
SUMMARY:Laborers 362 Meeting
DESCRIPTION:
URL:https://greatplainslaborers.org/event/laborers-362-meeting/2025-12-02/
LOCATION:Laborers 362 Union Hall\, 2012 Fox Creek Rd\, Bloomington\, IL\, 61701
ATTACH;FMTTYPE=image/png:https://greatplainslaborers.org/wp-content/uploads/2024/02/local362-800px.png
END:VEVENT
BEGIN:VEVENT
DTSTART;TZID=America/Chicago:20251201T190000
DTEND;TZID=America/Chicago:20251201T203000
DTSTAMP:20260421T052835
CREATED:20240205T212245Z
LAST-MODIFIED:20251124T213131Z
UID:10000389-1764615600-1764621000@greatplainslaborers.org
SUMMARY:Laborers 538 Meeting
DESCRIPTION:
URL:https://greatplainslaborers.org/event/laborers-538-meeting/2025-12-01/
LOCATION:Laborers 538 Union Hall\, 118 West Main St.\, East Galesburg\, IL\, 61430
ATTACH;FMTTYPE=image/png:https://greatplainslaborers.org/wp-content/uploads/2024/01/LIUNA_logo.png
END:VEVENT
BEGIN:VEVENT
DTSTART;TZID=America/Chicago:20251201T180000
DTEND;TZID=America/Chicago:20251201T193000
DTSTAMP:20260421T052835
CREATED:20240205T210130Z
LAST-MODIFIED:20251124T213206Z
UID:10000401-1764612000-1764617400@greatplainslaborers.org
SUMMARY:Laborers 165 Meeting
DESCRIPTION:
URL:https://greatplainslaborers.org/event/laborers-165-meeting/2025-12-01/
LOCATION:Laborers 165 Union Hall\, 4509 N Catalina\, Peoria\, IL\, 61615
ATTACH;FMTTYPE=image/jpeg:https://greatplainslaborers.org/wp-content/uploads/2023/11/laborers165web.jpg
END:VEVENT
BEGIN:VEVENT
DTSTART;TZID=America/Chicago:20251201T173000
DTEND;TZID=America/Chicago:20251201T190000
DTSTAMP:20260421T052835
CREATED:20240205T205731Z
LAST-MODIFIED:20251124T213235Z
UID:10000413-1764610200-1764615600@greatplainslaborers.org
SUMMARY:Laborers 43 Meeting
DESCRIPTION:
URL:https://greatplainslaborers.org/event/laborers-43-meeting/2025-12-01/
LOCATION:Laborers 43 Union Hall\, 816 1 st Ave. N.W. Ste A\, Cedar Rapids\, IA\, 52405
ATTACH;FMTTYPE=image/jpeg:https://greatplainslaborers.org/wp-content/uploads/2024/02/local43.jpg
END:VEVENT
BEGIN:VEVENT
DTSTART;TZID=America/Chicago:20251127T190000
DTEND;TZID=America/Chicago:20251127T203000
DTSTAMP:20260421T052835
CREATED:20240205T213020Z
LAST-MODIFIED:20250410T202147Z
UID:10000282-1764270000-1764275400@greatplainslaborers.org
SUMMARY:Laborers 751 Meeting
DESCRIPTION:
URL:https://greatplainslaborers.org/event/laborers-751-meeting/2025-11-27/
LOCATION:Laborers 751 Union Hall\, 1390 Stanford Drive\, Kankakee\, IL\, 60901
ATTACH;FMTTYPE=image/png:https://greatplainslaborers.org/wp-content/uploads/2024/01/LIUNA_logo.png
END:VEVENT
BEGIN:VEVENT
DTSTART;VALUE=DATE:20251127
DTEND;VALUE=DATE:20251128
DTSTAMP:20260421T052835
CREATED:20240129T183911Z
LAST-MODIFIED:20251124T212649Z
UID:10000306-1764201600-1764287999@greatplainslaborers.org
SUMMARY:GPLDC Delegates Meetings
DESCRIPTION:
URL:https://greatplainslaborers.org/event/gpldc-delegates-meetings/2025-11-27/
LOCATION:IA
ATTACH;FMTTYPE=image/png:https://greatplainslaborers.org/wp-content/uploads/2024/01/LIUNA_logo.png
END:VEVENT
BEGIN:VEVENT
DTSTART;TZID=America/Chicago:20251111T190000
DTEND;TZID=America/Chicago:20251111T203000
DTSTAMP:20260421T052835
CREATED:20240205T212005Z
LAST-MODIFIED:20251124T212744Z
UID:10000293-1762887600-1762893000@greatplainslaborers.org
SUMMARY:Laborers 393 Meeting
DESCRIPTION:
URL:https://greatplainslaborers.org/event/laborers-393-meeting/2025-11-11/
LOCATION:Laborers 393 Union Hall\, 322 Main St.\, Marseilles\, IL\, 61341
ATTACH;FMTTYPE=image/png:https://greatplainslaborers.org/wp-content/uploads/2024/02/local393.png
END:VEVENT
BEGIN:VEVENT
DTSTART;TZID=America/Chicago:20251111T190000
DTEND;TZID=America/Chicago:20251111T203000
DTSTAMP:20260421T052835
CREATED:20240205T211015Z
LAST-MODIFIED:20251124T212904Z
UID:10000317-1762887600-1762893000@greatplainslaborers.org
SUMMARY:Laborers 309 Meeting
DESCRIPTION:
URL:https://greatplainslaborers.org/event/laborers-309-meeting/2025-11-11/
LOCATION:Laborers 309 Union Hall\, 2835 7th Ave\, Rock Island\, IL\, 61201
ATTACH;FMTTYPE=image/png:https://greatplainslaborers.org/wp-content/uploads/2024/01/LIUNA_logo.png
END:VEVENT
BEGIN:VEVENT
DTSTART;TZID=America/Chicago:20251111T173000
DTEND;TZID=America/Chicago:20251111T190000
DTSTAMP:20260421T052835
CREATED:20240205T203441Z
LAST-MODIFIED:20251124T212812Z
UID:10000351-1762882200-1762887600@greatplainslaborers.org
SUMMARY:Laborers 32 Meeting
DESCRIPTION:
URL:https://greatplainslaborers.org/event/laborers-32/2025-11-11/
LOCATION:Laborers 32 Union Hall\, 4477 Linden Road\, Suite F\, Rockford\, IL\, 61109
ATTACH;FMTTYPE=image/png:https://greatplainslaborers.org/wp-content/uploads/2024/02/local32-logo500.png
END:VEVENT
BEGIN:VEVENT
DTSTART;TZID=America/Chicago:20251107T150000
DTEND;TZID=America/Chicago:20251107T160000
DTSTAMP:20260421T052835
CREATED:20240226T214539Z
LAST-MODIFIED:20251124T212202Z
UID:10000578-1762527600-1762531200@greatplainslaborers.org
SUMMARY:Laborers' Local 727 Retiree Council Meeting
DESCRIPTION:
URL:https://greatplainslaborers.org/event/laborers-local-727-retiree-council-meeting-3/2025-11-07/
LOCATION:Laborers 727 Union Hall\, 768 Bloody Gulch Road\, Dixon\, IL\, 61021
ATTACH;FMTTYPE=image/jpeg:https://greatplainslaborers.org/wp-content/uploads/2023/11/laborers727.jpg
END:VEVENT
BEGIN:VEVENT
DTSTART;TZID=America/Chicago:20251106T190000
DTEND;TZID=America/Chicago:20251106T203000
DTSTAMP:20260421T052835
CREATED:20240205T212808Z
LAST-MODIFIED:20251124T213306Z
UID:10000424-1762455600-1762461000@greatplainslaborers.org
SUMMARY:Laborers 727 Meeting
DESCRIPTION:
URL:https://greatplainslaborers.org/event/laborers-727-meeting/2025-11-06/
LOCATION:Laborers 727 Union Hall\, 768 Bloody Gulch Road\, Dixon\, IL\, 61021
ATTACH;FMTTYPE=image/jpeg:https://greatplainslaborers.org/wp-content/uploads/2023/11/laborers727.jpg
END:VEVENT
BEGIN:VEVENT
DTSTART;TZID=America/Chicago:20251106T183000
DTEND;TZID=America/Chicago:20251106T200000
DTSTAMP:20260421T052835
CREATED:20240206T184313Z
LAST-MODIFIED:20251124T212226Z
UID:10000652-1762453800-1762459200@greatplainslaborers.org
SUMMARY:Laborers 620 Meeting
DESCRIPTION:
URL:https://greatplainslaborers.org/event/laborers-620-meeting-3/2025-11-06/
LOCATION:Laborers 620 Union Hall\, 606 N Kiwanis Ave\, Sioux Falls\, SD\, 57104
ATTACH;FMTTYPE=image/png:https://greatplainslaborers.org/wp-content/uploads/2024/01/LIUNA_logo.png
END:VEVENT
BEGIN:VEVENT
DTSTART;TZID=America/Chicago:20251106T180000
DTEND;TZID=America/Chicago:20251106T193000
DTSTAMP:20260421T052835
CREATED:20240715T204513Z
LAST-MODIFIED:20251124T212257Z
UID:10000247-1762452000-1762457400@greatplainslaborers.org
SUMMARY:Laborers 177 Meeting
DESCRIPTION:
URL:https://greatplainslaborers.org/event/laborers-177-meeting-4/2025-11-06/
LOCATION:Laborers 177 Union Hall\, 3400 E Euclid Ave\,\, Des Moines\, IA\, 50317
ATTACH;FMTTYPE=image/png:https://greatplainslaborers.org/wp-content/uploads/2024/01/laborers177.png
END:VEVENT
BEGIN:VEVENT
DTSTART;TZID=America/Chicago:20251104T193000
DTEND;TZID=America/Chicago:20251104T210000
DTSTAMP:20260421T052835
CREATED:20240205T210606Z
LAST-MODIFIED:20251124T212837Z
UID:10000329-1762284600-1762290000@greatplainslaborers.org
SUMMARY:Laborers 231 Meeting
DESCRIPTION:
URL:https://greatplainslaborers.org/event/laborers-231-meeting/2025-11-04/
LOCATION:Laborers 231 Union Hall\, 2503 Broadway\, Pekin\, IL\, 61554
ATTACH;FMTTYPE=image/jpeg:https://greatplainslaborers.org/wp-content/uploads/2024/02/laborers231.jpg
END:VEVENT
BEGIN:VEVENT
DTSTART;TZID=America/Chicago:20251104T183000
DTEND;TZID=America/Chicago:20251104T200000
DTSTAMP:20260421T052835
CREATED:20240205T213549Z
LAST-MODIFIED:20251124T212934Z
UID:10000364-1762281000-1762286400@greatplainslaborers.org
SUMMARY:Laborers 1140 Meeting
DESCRIPTION:
URL:https://greatplainslaborers.org/event/laborers-1140-meeting/2025-11-04/
LOCATION:Laborers 1140 Union Hall (Omaha)\, 5626 Sorensen Pkwy\, Omaha\, NE\, 68503
ATTACH;FMTTYPE=image/jpeg:https://greatplainslaborers.org/wp-content/uploads/2023/11/327234129_5887388894650198_4277560577260670663_n.jpg
END:VEVENT
BEGIN:VEVENT
DTSTART;TZID=America/Chicago:20251104T183000
DTEND;TZID=America/Chicago:20251104T200000
DTSTAMP:20260421T052835
CREATED:20240205T213244Z
LAST-MODIFIED:20251124T213033Z
UID:10001199-1762281000-1762286400@greatplainslaborers.org
SUMMARY:Laborers 996 Meeting
DESCRIPTION:
URL:https://greatplainslaborers.org/event/laborers-996-meeting/2025-11-04/
LOCATION:Laborers 996 Union Hall\, PO Box 410\, Roanoke\, IL\, 61561
ATTACH;FMTTYPE=image/png:https://greatplainslaborers.org/wp-content/uploads/2024/01/LIUNA_logo.png
END:VEVENT
END:VCALENDAR